BEGIN:VCALENDAR
VERSION:2.0
PRODID:-//Carle - ECPv6.15.20//NONSGML v1.0//EN
CALSCALE:GREGORIAN
METHOD:PUBLISH
X-ORIGINAL-URL:https://www.carlehealthfitness.com
X-WR-CALDESC:Events for Carle
REFRESH-INTERVAL;VALUE=DURATION:PT1H
X-Robots-Tag:noindex
X-PUBLISHED-TTL:PT1H
BEGIN:VTIMEZONE
TZID:America/New_York
BEGIN:DAYLIGHT
TZOFFSETFROM:-0500
TZOFFSETTO:-0400
TZNAME:EDT
DTSTART:20210314T070000
END:DAYLIGHT
BEGIN:STANDARD
TZOFFSETFROM:-0400
TZOFFSETTO:-0500
TZNAME:EST
DTSTART:20211107T060000
END:STANDARD
BEGIN:DAYLIGHT
TZOFFSETFROM:-0500
TZOFFSETTO:-0400
TZNAME:EDT
DTSTART:20220313T070000
END:DAYLIGHT
BEGIN:STANDARD
TZOFFSETFROM:-0400
TZOFFSETTO:-0500
TZNAME:EST
DTSTART:20221106T060000
END:STANDARD
BEGIN:DAYLIGHT
TZOFFSETFROM:-0500
TZOFFSETTO:-0400
TZNAME:EDT
DTSTART:20230312T070000
END:DAYLIGHT
BEGIN:STANDARD
TZOFFSETFROM:-0400
TZOFFSETTO:-0500
TZNAME:EST
DTSTART:20231105T060000
END:STANDARD
END:VTIMEZONE
BEGIN:VEVENT
DTSTART;TZID=America/New_York:20220728T103000
DTEND;TZID=America/New_York:20220728T153000
DTSTAMP:20260422T194142
CREATED:20220712T223116Z
LAST-MODIFIED:20220712T223833Z
UID:32441-1659004200-1659022200@www.carlehealthfitness.com
SUMMARY:Carle BroMenn Medical Center Blood Drive
DESCRIPTION:Donate blood. Help save lives.\n\nThursday\, July 28  |  10:30 am – 3:30 pm\nFriday July 29  |  10:00 am – 3:00 pm\n\nFor an appointment call 1-800-RED CROSS (1-800-733-2767) or visit RedCrossBlood.org. Bring a photo ID or your blood donor card\, or two other forms of ID. Free refreshments will be provided. All presenting donors may enter a raffle to win a $25 gift card! \nStreamline your donation experience and save up to 15 minutes by visiting RedCrossBlood.org/RapidPass to complete your pre-donation reading and health history questions on the day of your appointment.
URL:https://www.carlehealthfitness.com/marketing-event/carle-bromenn-medical-center-blood-drive/
LOCATION:Carle Health & Fitness Center Conference Center\, 1111 Trinity Lane\, Bloomington\, IL\, 61704\, United States
CATEGORIES:Blood Drive
ATTACH;FMTTYPE=image/png:https://www.carlehealthfitness.com/wp-content/uploads/2022/07/donate-blood-CHFC-website-featured-image.png
END:VEVENT
END:VCALENDAR