BEGIN:VCALENDAR
VERSION:2.0
PRODID:-//Carle - ECPv6.15.20//NONSGML v1.0//EN
CALSCALE:GREGORIAN
METHOD:PUBLISH
X-ORIGINAL-URL:https://www.carlehealthfitness.com
X-WR-CALDESC:Events for Carle
REFRESH-INTERVAL;VALUE=DURATION:PT1H
X-Robots-Tag:noindex
X-PUBLISHED-TTL:PT1H
BEGIN:VTIMEZONE
TZID:America/New_York
BEGIN:DAYLIGHT
TZOFFSETFROM:-0500
TZOFFSETTO:-0400
TZNAME:EDT
DTSTART:20220313T070000
END:DAYLIGHT
BEGIN:STANDARD
TZOFFSETFROM:-0400
TZOFFSETTO:-0500
TZNAME:EST
DTSTART:20221106T060000
END:STANDARD
BEGIN:DAYLIGHT
TZOFFSETFROM:-0500
TZOFFSETTO:-0400
TZNAME:EDT
DTSTART:20230312T070000
END:DAYLIGHT
BEGIN:STANDARD
TZOFFSETFROM:-0400
TZOFFSETTO:-0500
TZNAME:EST
DTSTART:20231105T060000
END:STANDARD
BEGIN:DAYLIGHT
TZOFFSETFROM:-0500
TZOFFSETTO:-0400
TZNAME:EDT
DTSTART:20240310T070000
END:DAYLIGHT
BEGIN:STANDARD
TZOFFSETFROM:-0400
TZOFFSETTO:-0500
TZNAME:EST
DTSTART:20241103T060000
END:STANDARD
END:VTIMEZONE
BEGIN:VEVENT
DTSTART;TZID=America/New_York:20230805T100000
DTEND;TZID=America/New_York:20230805T110000
DTSTAMP:20260421T175845
CREATED:20230426T190409Z
LAST-MODIFIED:20230714T163406Z
UID:35114-1691229600-1691233200@www.carlehealthfitness.com
SUMMARY:Bootcamp & Brews
DESCRIPTION:Get it done in the sun and enjoy a post-workout beer!\nJoin the TPC team at Keg Grove Brewing Company every other Saturday throughout the summer for Bootcamp & Brews – a fun\, 40-minute outdoor workout followed by a refreshing beverage! This trainer-led functional fitness class\, which takes place in the KGB parking lot\, will incorporate minimal equipment and body-weight exercises to increase your overall fitness. Intensity levels are guided by you with options provided for each exercise. All fitness levels are welcome to participate. \nThere will be varying formats\, a variety of instructors and fun themes each week! \n\nJune 10th: Bootcamp with Adam and Ken\nJune 24th: Bootcamp with Alli and Jeff\nJuly 8th: Yoga with Renee\nJuly 22nd: WERQ with Libby\nAugust 5th: Bootcamp with Alaina and Linnea\nAugust 19th: Bootcamp with Adam and Ken\n\n*Inclement Weather: In case of inclement weather\, Bootcamp & Brews will take place indoors at KGBC \nPrice: $12/session \nPrice includes a certified trainer-led fitness class & 1 Keg Grove Brewing beverage of choice (you will receive a token that can be used the same day or saved for a later visit) \nTo register\, visit https://www.tpcbloomington.com/bootcampandbrews \n 
URL:https://www.carlehealthfitness.com/marketing-event/bootcamp-brews-2023-08-05/
LOCATION:Keg Grove Brewing Company\, 712 E. Empire St.\, Bloomington\, IL\, 61701\, United States
CATEGORIES:Classes
ATTACH;FMTTYPE=image/png:https://www.carlehealthfitness.com/wp-content/uploads/2023/04/CHFC-Event-Featured-Image.png
END:VEVENT
END:VCALENDAR