BEGIN:VCALENDAR
VERSION:2.0
PRODID:-//Carle - ECPv6.15.20//NONSGML v1.0//EN
CALSCALE:GREGORIAN
METHOD:PUBLISH
X-WR-CALNAME:Carle
X-ORIGINAL-URL:https://www.carlehealthfitness.com
X-WR-CALDESC:Events for Carle
REFRESH-INTERVAL;VALUE=DURATION:PT1H
X-Robots-Tag:noindex
X-PUBLISHED-TTL:PT1H
BEGIN:VTIMEZONE
TZID:America/New_York
BEGIN:DAYLIGHT
TZOFFSETFROM:-0500
TZOFFSETTO:-0400
TZNAME:EDT
DTSTART:20230312T070000
END:DAYLIGHT
BEGIN:STANDARD
TZOFFSETFROM:-0400
TZOFFSETTO:-0500
TZNAME:EST
DTSTART:20231105T060000
END:STANDARD
BEGIN:DAYLIGHT
TZOFFSETFROM:-0500
TZOFFSETTO:-0400
TZNAME:EDT
DTSTART:20240310T070000
END:DAYLIGHT
BEGIN:STANDARD
TZOFFSETFROM:-0400
TZOFFSETTO:-0500
TZNAME:EST
DTSTART:20241103T060000
END:STANDARD
BEGIN:DAYLIGHT
TZOFFSETFROM:-0500
TZOFFSETTO:-0400
TZNAME:EDT
DTSTART:20250309T070000
END:DAYLIGHT
BEGIN:STANDARD
TZOFFSETFROM:-0400
TZOFFSETTO:-0500
TZNAME:EST
DTSTART:20251102T060000
END:STANDARD
END:VTIMEZONE
BEGIN:VEVENT
DTSTART;TZID=America/New_York:20240401T083000
DTEND;TZID=America/New_York:20240401T093000
DTSTAMP:20260419T165433
CREATED:20230818T183315Z
LAST-MODIFIED:20230818T183315Z
UID:36199-1711960200-1711963800@www.carlehealthfitness.com
SUMMARY:Conscious Connected Breathwork
DESCRIPTION:Take a step into transformation in the new year by exploring your breath.\nHow often do you consciously take note of how you are breathing? Perhaps for a moment\, but when was the last time you sat with your breath for more than 5 minutes on a continual basis? \nDid you know that breathing through various cyclical patterns\, along with musical cues\, could change the state in which your nervous system may be in? This typically requires our brain a duration of 8-10 minutes to be able to fully release from our structured minds into a more embodied awareness. \nFor example\, often we rush throughout our day while accumulating stress\, frustration\, and anxious feelings. This is the sympathetic state. While various modalities such as yoga and meditation can create shifts in the parasympathetic state\, conscious connected breathwork provides the opportunity to regulate the various states of our nervous system\, however a bit faster and with more control. \nConscious Connected Breath can shift your nervous system states with more ease as you learn to grow into the actual practice of doing so daily or at least a few times a week. This process helps us to manage our heart rate variability\, thus adapting with more ease under stress along with long-term systemic healing for both our physical and mental well-being. \nJoin us in 2024 for this 13 Week Program!  Meets Mondays\, 8:30-9:30 AM from January 8th – April 1st in the Mind/Body Studio. All you need is an open mind\, an intention to which you desire to focus on and comfy attire. \nSpace is limited. Register now at the Member Service Desk.\n \nMember Pricing:\n  – Drop-in class:  $10 each\n  – 6-Pack Punch Card (good for 6 sessions):  $55\n  – 12-Pack Punch Card (good for 12 sessions):  $110 – Complete all 12 punches and your 13th session is FREE! \nNon-Member Pricing:\n  – Drop-in class (which includes full day access to CHFC):  $15 each\n  – 6-Pack Punch Card (good for 6 sessions):  $85\n  – 12-Pack Punch Card (good for 12 sessions):  $165 – Complete all 12 punches and your 13th session is FREE! \n  \nClasses is led by This Little Light Breathwork.  You are free to lay down or sit up\, ideally not eating a large meal before the class. \n*Punch cards and all punches are valid from 1/8/24 – 4/1/24 only.
URL:https://www.carlehealthfitness.com/marketing-event/conscious-connected-breathwork-2024-2024-04-01/
LOCATION:Carle Health & Fitness Center’s Mind/Body Studio\, 1111 Trinity Lane\, Bloomington\, IL\, 61704\, United States
CATEGORIES:Classes
ATTACH;FMTTYPE=image/jpeg:https://www.carlehealthfitness.com/wp-content/uploads/2023/05/Conscious-Connected-Breathwork.jpg
END:VEVENT
END:VCALENDAR