BEGIN:VCALENDAR
VERSION:2.0
PRODID:-//Carle - ECPv6.15.20//NONSGML v1.0//EN
CALSCALE:GREGORIAN
METHOD:PUBLISH
X-WR-CALNAME:Carle
X-ORIGINAL-URL:https://www.carlehealthfitness.com
X-WR-CALDESC:Events for Carle
REFRESH-INTERVAL;VALUE=DURATION:PT1H
X-Robots-Tag:noindex
X-PUBLISHED-TTL:PT1H
BEGIN:VTIMEZONE
TZID:America/New_York
BEGIN:DAYLIGHT
TZOFFSETFROM:-0500
TZOFFSETTO:-0400
TZNAME:EDT
DTSTART:20230312T070000
END:DAYLIGHT
BEGIN:STANDARD
TZOFFSETFROM:-0400
TZOFFSETTO:-0500
TZNAME:EST
DTSTART:20231105T060000
END:STANDARD
BEGIN:DAYLIGHT
TZOFFSETFROM:-0500
TZOFFSETTO:-0400
TZNAME:EDT
DTSTART:20240310T070000
END:DAYLIGHT
BEGIN:STANDARD
TZOFFSETFROM:-0400
TZOFFSETTO:-0500
TZNAME:EST
DTSTART:20241103T060000
END:STANDARD
BEGIN:DAYLIGHT
TZOFFSETFROM:-0500
TZOFFSETTO:-0400
TZNAME:EDT
DTSTART:20250309T070000
END:DAYLIGHT
BEGIN:STANDARD
TZOFFSETFROM:-0400
TZOFFSETTO:-0500
TZNAME:EST
DTSTART:20251102T060000
END:STANDARD
END:VTIMEZONE
BEGIN:VEVENT
DTSTART;TZID=America/New_York:20240817T110000
DTEND;TZID=America/New_York:20240817T120000
DTSTAMP:20260419T095806
CREATED:20240415T100009Z
LAST-MODIFIED:20240415T161523Z
UID:36527-1723892400-1723896000@www.carlehealthfitness.com
SUMMARY:Bootcamp & Brews
DESCRIPTION:Get it done in the sun and enjoy a post-workout beer!\nJoin the TPC team at Keg Grove Brewing Company from 11 am-Noon every other Saturday throughout the summer for Bootcamp & Brews – a fun\, 40-minute outdoor workout followed by a refreshing beverage! This trainer-led functional fitness class\, which takes place in the KGB parking lot\, will incorporate minimal equipment and body-weight exercises to increase your overall fitness. Intensity levels are guided by you with options provided for each exercise. All fitness levels are welcome to participate. \nThere will be varying formats\, a variety of instructors and fun themes each week!  Must be 21.  Classes will be outside\, reminder to bring water and stay hydrated! (In case of inclement weather\, Bootcamp & Brews will take place indoors at KGBC.) \n\nJune 8th: HIIT with Morgan and Alli\nJune 22nd: WERQ with Kate and Libby\nJuly 6th: Bootcamp with Jeff and Alli\nJuly 20th: Yoga with Kate\nAugust 3rd: Pilates with Kathy\nAugust 17th: HIIT with Alaina and Linnea\n\nPrice: $15 each session\, or $72 for all 6 sessions ($12 each) \nPrice includes a certified trainer-led fitness class & 1 Keg Grove Brewing beverage of choice (you will receive a token that can be used the same day or saved for a later visit). \nCLICK HERE TO REGISTER
URL:https://www.carlehealthfitness.com/marketing-event/bootcamp-brews-20240817/
LOCATION:Keg Grove Brewing Company\, 712 E. Empire St.\, Bloomington\, IL\, 61701\, United States
CATEGORIES:Classes
ATTACH;FMTTYPE=image/png:https://www.carlehealthfitness.com/wp-content/uploads/2023/04/Bootcamp-Brews.png
END:VEVENT
END:VCALENDAR