BEGIN:VCALENDAR
VERSION:2.0
PRODID:-//Carle - ECPv6.15.20//NONSGML v1.0//EN
CALSCALE:GREGORIAN
METHOD:PUBLISH
X-WR-CALNAME:Carle
X-ORIGINAL-URL:https://www.carlehealthfitness.com
X-WR-CALDESC:Events for Carle
REFRESH-INTERVAL;VALUE=DURATION:PT1H
X-Robots-Tag:noindex
X-PUBLISHED-TTL:PT1H
BEGIN:VTIMEZONE
TZID:America/New_York
BEGIN:DAYLIGHT
TZOFFSETFROM:-0500
TZOFFSETTO:-0400
TZNAME:EDT
DTSTART:20170312T070000
END:DAYLIGHT
BEGIN:STANDARD
TZOFFSETFROM:-0400
TZOFFSETTO:-0500
TZNAME:EST
DTSTART:20171105T060000
END:STANDARD
BEGIN:DAYLIGHT
TZOFFSETFROM:-0500
TZOFFSETTO:-0400
TZNAME:EDT
DTSTART:20180311T070000
END:DAYLIGHT
BEGIN:STANDARD
TZOFFSETFROM:-0400
TZOFFSETTO:-0500
TZNAME:EST
DTSTART:20181104T060000
END:STANDARD
BEGIN:DAYLIGHT
TZOFFSETFROM:-0500
TZOFFSETTO:-0400
TZNAME:EDT
DTSTART:20190310T070000
END:DAYLIGHT
BEGIN:STANDARD
TZOFFSETFROM:-0400
TZOFFSETTO:-0500
TZNAME:EST
DTSTART:20191103T060000
END:STANDARD
BEGIN:DAYLIGHT
TZOFFSETFROM:-0500
TZOFFSETTO:-0400
TZNAME:EDT
DTSTART:20200308T070000
END:DAYLIGHT
BEGIN:STANDARD
TZOFFSETFROM:-0400
TZOFFSETTO:-0500
TZNAME:EST
DTSTART:20201101T060000
END:STANDARD
BEGIN:DAYLIGHT
TZOFFSETFROM:-0500
TZOFFSETTO:-0400
TZNAME:EDT
DTSTART:20210314T070000
END:DAYLIGHT
BEGIN:STANDARD
TZOFFSETFROM:-0400
TZOFFSETTO:-0500
TZNAME:EST
DTSTART:20211107T060000
END:STANDARD
BEGIN:DAYLIGHT
TZOFFSETFROM:-0500
TZOFFSETTO:-0400
TZNAME:EDT
DTSTART:20220313T070000
END:DAYLIGHT
BEGIN:STANDARD
TZOFFSETFROM:-0400
TZOFFSETTO:-0500
TZNAME:EST
DTSTART:20221106T060000
END:STANDARD
BEGIN:DAYLIGHT
TZOFFSETFROM:-0500
TZOFFSETTO:-0400
TZNAME:EDT
DTSTART:20230312T070000
END:DAYLIGHT
BEGIN:STANDARD
TZOFFSETFROM:-0400
TZOFFSETTO:-0500
TZNAME:EST
DTSTART:20231105T060000
END:STANDARD
END:VTIMEZONE
BEGIN:VEVENT
DTSTART;TZID=America/New_York:20220506T050000
DTEND;TZID=America/New_York:20220506T210000
DTSTAMP:20260423T024132
CREATED:20200225T171144Z
LAST-MODIFIED:20200903T194405Z
UID:22011-1651813200-1651870800@www.carlehealthfitness.com
SUMMARY:Free Friend Friday!
DESCRIPTION:Free Friend Friday is the first Friday of each month! \nBring a friend this Friday to show them why you love working out here!
URL:https://www.carlehealthfitness.com/marketing-event/free-friend-friday-2022-05-06/
LOCATION:IL
ATTACH;FMTTYPE=image/png:https://www.carlehealthfitness.com/wp-content/uploads/2020/02/Join-us-for...-4.png
END:VEVENT
BEGIN:VEVENT
DTSTART;TZID=America/New_York:20220429T120000
DTEND;TZID=America/New_York:20220429T130000
DTSTAMP:20260423T024132
CREATED:20220401T034148Z
LAST-MODIFIED:20220401T034148Z
UID:31327-1651233600-1651237200@www.carlehealthfitness.com
SUMMARY:Outdoor Walking Group
DESCRIPTION:Every Friday in April from 12 pm – 1 pm at McGraw Park \n(just northwest of the Carle Health & Fitness Center parking lot) \nIncrease your wellness\, soak in some Vitamin D and connect with others by joining us for an outdoor walk every Friday in April. This free event is open to both members and non-members\, so bring a friend!  \nEach week you participate\, check in with the Walking Group Coach\, and you will be entered into a raffle for the chance to win a free One-Month Carle Health & Fitness Center membership.  \nIn case of inclement weather\, the event will take place on the indoor track at Carle Health & Fitness Center.
URL:https://www.carlehealthfitness.com/marketing-event/outdoor-walking-group-2022-04-29/
LOCATION:McGraw Park\, 3202 Cornelius Dr.\, Bloomington\, IL\, 61704\, United States
ATTACH;FMTTYPE=image/jpeg:https://www.carlehealthfitness.com/wp-content/uploads/2022/03/WALKING.jpg
END:VEVENT
BEGIN:VEVENT
DTSTART;TZID=America/New_York:20220422T120000
DTEND;TZID=America/New_York:20220422T130000
DTSTAMP:20260423T024132
CREATED:20220401T034148Z
LAST-MODIFIED:20220401T034148Z
UID:31326-1650628800-1650632400@www.carlehealthfitness.com
SUMMARY:Outdoor Walking Group
DESCRIPTION:Every Friday in April from 12 pm – 1 pm at McGraw Park \n(just northwest of the Carle Health & Fitness Center parking lot) \nIncrease your wellness\, soak in some Vitamin D and connect with others by joining us for an outdoor walk every Friday in April. This free event is open to both members and non-members\, so bring a friend!  \nEach week you participate\, check in with the Walking Group Coach\, and you will be entered into a raffle for the chance to win a free One-Month Carle Health & Fitness Center membership.  \nIn case of inclement weather\, the event will take place on the indoor track at Carle Health & Fitness Center.
URL:https://www.carlehealthfitness.com/marketing-event/outdoor-walking-group-2022-04-22/
LOCATION:McGraw Park\, 3202 Cornelius Dr.\, Bloomington\, IL\, 61704\, United States
ATTACH;FMTTYPE=image/jpeg:https://www.carlehealthfitness.com/wp-content/uploads/2022/03/WALKING.jpg
END:VEVENT
BEGIN:VEVENT
DTSTART;TZID=America/New_York:20220415T120000
DTEND;TZID=America/New_York:20220415T130000
DTSTAMP:20260423T024132
CREATED:20220401T034148Z
LAST-MODIFIED:20220401T034148Z
UID:31325-1650024000-1650027600@www.carlehealthfitness.com
SUMMARY:Outdoor Walking Group
DESCRIPTION:Every Friday in April from 12 pm – 1 pm at McGraw Park \n(just northwest of the Carle Health & Fitness Center parking lot) \nIncrease your wellness\, soak in some Vitamin D and connect with others by joining us for an outdoor walk every Friday in April. This free event is open to both members and non-members\, so bring a friend!  \nEach week you participate\, check in with the Walking Group Coach\, and you will be entered into a raffle for the chance to win a free One-Month Carle Health & Fitness Center membership.  \nIn case of inclement weather\, the event will take place on the indoor track at Carle Health & Fitness Center.
URL:https://www.carlehealthfitness.com/marketing-event/outdoor-walking-group-2022-04-15/
LOCATION:McGraw Park\, 3202 Cornelius Dr.\, Bloomington\, IL\, 61704\, United States
ATTACH;FMTTYPE=image/jpeg:https://www.carlehealthfitness.com/wp-content/uploads/2022/03/WALKING.jpg
END:VEVENT
BEGIN:VEVENT
DTSTART;TZID=America/New_York:20220408T120000
DTEND;TZID=America/New_York:20220408T130000
DTSTAMP:20260423T024132
CREATED:20220401T034148Z
LAST-MODIFIED:20220401T034148Z
UID:31324-1649419200-1649422800@www.carlehealthfitness.com
SUMMARY:Outdoor Walking Group
DESCRIPTION:Every Friday in April from 12 pm – 1 pm at McGraw Park \n(just northwest of the Carle Health & Fitness Center parking lot) \nIncrease your wellness\, soak in some Vitamin D and connect with others by joining us for an outdoor walk every Friday in April. This free event is open to both members and non-members\, so bring a friend!  \nEach week you participate\, check in with the Walking Group Coach\, and you will be entered into a raffle for the chance to win a free One-Month Carle Health & Fitness Center membership.  \nIn case of inclement weather\, the event will take place on the indoor track at Carle Health & Fitness Center.
URL:https://www.carlehealthfitness.com/marketing-event/outdoor-walking-group-2022-04-08/
LOCATION:McGraw Park\, 3202 Cornelius Dr.\, Bloomington\, IL\, 61704\, United States
ATTACH;FMTTYPE=image/jpeg:https://www.carlehealthfitness.com/wp-content/uploads/2022/03/WALKING.jpg
END:VEVENT
BEGIN:VEVENT
DTSTART;TZID=America/New_York:20220401T120000
DTEND;TZID=America/New_York:20220401T130000
DTSTAMP:20260423T024132
CREATED:20220401T034148Z
LAST-MODIFIED:20220401T034148Z
UID:31321-1648814400-1648818000@www.carlehealthfitness.com
SUMMARY:Outdoor Walking Group
DESCRIPTION:Every Friday in April from 12 pm – 1 pm at McGraw Park \n(just northwest of the Carle Health & Fitness Center parking lot) \nIncrease your wellness\, soak in some Vitamin D and connect with others by joining us for an outdoor walk every Friday in April. This free event is open to both members and non-members\, so bring a friend!  \nEach week you participate\, check in with the Walking Group Coach\, and you will be entered into a raffle for the chance to win a free One-Month Carle Health & Fitness Center membership.  \nIn case of inclement weather\, the event will take place on the indoor track at Carle Health & Fitness Center.
URL:https://www.carlehealthfitness.com/marketing-event/outdoor-walking-group/
LOCATION:McGraw Park\, 3202 Cornelius Dr.\, Bloomington\, IL\, 61704\, United States
ATTACH;FMTTYPE=image/jpeg:https://www.carlehealthfitness.com/wp-content/uploads/2022/03/WALKING.jpg
END:VEVENT
BEGIN:VEVENT
DTSTART;TZID=America/New_York:20220401T050000
DTEND;TZID=America/New_York:20220401T210000
DTSTAMP:20260423T024132
CREATED:20200225T171144Z
LAST-MODIFIED:20200903T194404Z
UID:21837-1648789200-1648846800@www.carlehealthfitness.com
SUMMARY:Free Friend Friday!
DESCRIPTION:Free Friend Friday is the first Friday of each month! \nBring a friend this Friday to show them why you love working out here!
URL:https://www.carlehealthfitness.com/marketing-event/free-friend-friday-2022-04-01/
LOCATION:IL
ATTACH;FMTTYPE=image/png:https://www.carlehealthfitness.com/wp-content/uploads/2020/02/Join-us-for...-4.png
END:VEVENT
BEGIN:VEVENT
DTSTART;TZID=America/New_York:20220304T050000
DTEND;TZID=America/New_York:20220304T210000
DTSTAMP:20260423T024132
CREATED:20200225T171144Z
LAST-MODIFIED:20200903T194404Z
UID:21659-1646370000-1646427600@www.carlehealthfitness.com
SUMMARY:Free Friend Friday!
DESCRIPTION:Free Friend Friday is the first Friday of each month! \nBring a friend this Friday to show them why you love working out here!
URL:https://www.carlehealthfitness.com/marketing-event/free-friend-friday-2022-03-04/
LOCATION:IL
ATTACH;FMTTYPE=image/png:https://www.carlehealthfitness.com/wp-content/uploads/2020/02/Join-us-for...-4.png
END:VEVENT
BEGIN:VEVENT
DTSTART;TZID=America/New_York:20220204T050000
DTEND;TZID=America/New_York:20220204T210000
DTSTAMP:20260423T024132
CREATED:20200225T171144Z
LAST-MODIFIED:20200903T194404Z
UID:21597-1643950800-1644008400@www.carlehealthfitness.com
SUMMARY:Free Friend Friday!
DESCRIPTION:Free Friend Friday is the first Friday of each month! \nBring a friend this Friday to show them why you love working out here!
URL:https://www.carlehealthfitness.com/marketing-event/free-friend-friday-2022-02-04/
LOCATION:IL
ATTACH;FMTTYPE=image/png:https://www.carlehealthfitness.com/wp-content/uploads/2020/02/Join-us-for...-4.png
END:VEVENT
BEGIN:VEVENT
DTSTART;TZID=America/New_York:20200306T050000
DTEND;TZID=America/New_York:20200306T210000
DTSTAMP:20260423T024132
CREATED:20200225T171144Z
LAST-MODIFIED:20240219T200014Z
UID:21573-1583470800-1583528400@www.carlehealthfitness.com
SUMMARY:Free Friend Friday!
DESCRIPTION:Free Friend Friday is the first Friday of each month! \nBring a friend this Friday to show them why you love working out here!
URL:https://www.carlehealthfitness.com/marketing-event/free-friend-friday/
LOCATION:IL
ATTACH;FMTTYPE=image/jpeg:https://www.carlehealthfitness.com/wp-content/uploads/2020/02/free-friend-friday.jpg
END:VEVENT
BEGIN:VEVENT
DTSTART;VALUE=DATE:20190101
DTEND;VALUE=DATE:20190102
DTSTAMP:20260423T024132
CREATED:20181115T201235Z
LAST-MODIFIED:20191125T183947Z
UID:15816-1546300800-1546387199@www.carlehealthfitness.com
SUMMARY:CLOSED - Happy New Year!
DESCRIPTION:
URL:https://www.carlehealthfitness.com/marketing-event/modified-hours-5am-3pm-2/
LOCATION:IL
END:VEVENT
BEGIN:VEVENT
DTSTART;VALUE=DATE:20181225
DTEND;VALUE=DATE:20181226
DTSTAMP:20260423T024132
CREATED:20181115T160904Z
LAST-MODIFIED:20190109T195519Z
UID:15801-1545696000-1545782399@www.carlehealthfitness.com
SUMMARY:CLOSED - Merry Christmas!
DESCRIPTION:
URL:https://www.carlehealthfitness.com/marketing-event/closed-merry-christmas/
LOCATION:IL
END:VEVENT
BEGIN:VEVENT
DTSTART;VALUE=DATE:20181122
DTEND;VALUE=DATE:20181123
DTSTAMP:20260423T024132
CREATED:20181115T152117Z
LAST-MODIFIED:20190109T200321Z
UID:15784-1542844800-1542931199@www.carlehealthfitness.com
SUMMARY:CLOSED - Happy Thanksgiving
DESCRIPTION:
URL:https://www.carlehealthfitness.com/marketing-event/closed-happy-thanksgiving/
LOCATION:IL
END:VEVENT
BEGIN:VEVENT
DTSTART;TZID=America/New_York:20180903T070000
DTEND;TZID=America/New_York:20180903T130000
DTSTAMP:20260423T024132
CREATED:20180817T145220Z
LAST-MODIFIED:20200903T180418Z
UID:13959-1535958000-1535979600@www.carlehealthfitness.com
SUMMARY:Labor Day Hours 5am - 3pm
DESCRIPTION:
URL:https://www.carlehealthfitness.com/marketing-event/labor-day-hours/
LOCATION:IL
END:VEVENT
BEGIN:VEVENT
DTSTART;TZID=America/New_York:20180704T070000
DTEND;TZID=America/New_York:20180704T130000
DTSTAMP:20260423T024132
CREATED:20180627T202411Z
LAST-MODIFIED:20220703T150815Z
UID:13076-1530687600-1530709200@www.carlehealthfitness.com
SUMMARY:4th of July Hours 5A - 12P
DESCRIPTION:
URL:https://www.carlehealthfitness.com/marketing-event/modified-hours-4th-of-july/
LOCATION:IL
END:VEVENT
END:VCALENDAR