BEGIN:VCALENDAR
VERSION:2.0
PRODID:-//Carle - ECPv6.15.20//NONSGML v1.0//EN
CALSCALE:GREGORIAN
METHOD:PUBLISH
X-ORIGINAL-URL:https://www.carlehealthfitness.com
X-WR-CALDESC:Events for Carle
REFRESH-INTERVAL;VALUE=DURATION:PT1H
X-Robots-Tag:noindex
X-PUBLISHED-TTL:PT1H
BEGIN:VTIMEZONE
TZID:America/New_York
BEGIN:DAYLIGHT
TZOFFSETFROM:-0500
TZOFFSETTO:-0400
TZNAME:EDT
DTSTART:20210314T070000
END:DAYLIGHT
BEGIN:STANDARD
TZOFFSETFROM:-0400
TZOFFSETTO:-0500
TZNAME:EST
DTSTART:20211107T060000
END:STANDARD
BEGIN:DAYLIGHT
TZOFFSETFROM:-0500
TZOFFSETTO:-0400
TZNAME:EDT
DTSTART:20220313T070000
END:DAYLIGHT
BEGIN:STANDARD
TZOFFSETFROM:-0400
TZOFFSETTO:-0500
TZNAME:EST
DTSTART:20221106T060000
END:STANDARD
BEGIN:DAYLIGHT
TZOFFSETFROM:-0500
TZOFFSETTO:-0400
TZNAME:EDT
DTSTART:20230312T070000
END:DAYLIGHT
BEGIN:STANDARD
TZOFFSETFROM:-0400
TZOFFSETTO:-0500
TZNAME:EST
DTSTART:20231105T060000
END:STANDARD
END:VTIMEZONE
BEGIN:VEVENT
DTSTART;TZID=America/New_York:20220401T050000
DTEND;TZID=America/New_York:20220401T210000
DTSTAMP:20260422T231611
CREATED:20200225T171144Z
LAST-MODIFIED:20200903T194404Z
UID:21837-1648789200-1648846800@www.carlehealthfitness.com
SUMMARY:Free Friend Friday!
DESCRIPTION:Free Friend Friday is the first Friday of each month! \nBring a friend this Friday to show them why you love working out here!
URL:https://www.carlehealthfitness.com/marketing-event/free-friend-friday-2022-04-01/
LOCATION:IL
ATTACH;FMTTYPE=image/png:https://www.carlehealthfitness.com/wp-content/uploads/2020/02/Join-us-for...-4.png
END:VEVENT
BEGIN:VEVENT
DTSTART;TZID=America/New_York:20220401T120000
DTEND;TZID=America/New_York:20220401T130000
DTSTAMP:20260422T231611
CREATED:20220401T034148Z
LAST-MODIFIED:20220401T034148Z
UID:31321-1648814400-1648818000@www.carlehealthfitness.com
SUMMARY:Outdoor Walking Group
DESCRIPTION:Every Friday in April from 12 pm – 1 pm at McGraw Park \n(just northwest of the Carle Health & Fitness Center parking lot) \nIncrease your wellness\, soak in some Vitamin D and connect with others by joining us for an outdoor walk every Friday in April. This free event is open to both members and non-members\, so bring a friend!  \nEach week you participate\, check in with the Walking Group Coach\, and you will be entered into a raffle for the chance to win a free One-Month Carle Health & Fitness Center membership.  \nIn case of inclement weather\, the event will take place on the indoor track at Carle Health & Fitness Center.
URL:https://www.carlehealthfitness.com/marketing-event/outdoor-walking-group/
LOCATION:McGraw Park\, 3202 Cornelius Dr.\, Bloomington\, IL\, 61704\, United States
ATTACH;FMTTYPE=image/jpeg:https://www.carlehealthfitness.com/wp-content/uploads/2022/03/WALKING.jpg
END:VEVENT
BEGIN:VEVENT
DTSTART;TZID=America/New_York:20220408T120000
DTEND;TZID=America/New_York:20220408T130000
DTSTAMP:20260422T231611
CREATED:20220401T034148Z
LAST-MODIFIED:20220401T034148Z
UID:31324-1649419200-1649422800@www.carlehealthfitness.com
SUMMARY:Outdoor Walking Group
DESCRIPTION:Every Friday in April from 12 pm – 1 pm at McGraw Park \n(just northwest of the Carle Health & Fitness Center parking lot) \nIncrease your wellness\, soak in some Vitamin D and connect with others by joining us for an outdoor walk every Friday in April. This free event is open to both members and non-members\, so bring a friend!  \nEach week you participate\, check in with the Walking Group Coach\, and you will be entered into a raffle for the chance to win a free One-Month Carle Health & Fitness Center membership.  \nIn case of inclement weather\, the event will take place on the indoor track at Carle Health & Fitness Center.
URL:https://www.carlehealthfitness.com/marketing-event/outdoor-walking-group-2022-04-08/
LOCATION:McGraw Park\, 3202 Cornelius Dr.\, Bloomington\, IL\, 61704\, United States
ATTACH;FMTTYPE=image/jpeg:https://www.carlehealthfitness.com/wp-content/uploads/2022/03/WALKING.jpg
END:VEVENT
BEGIN:VEVENT
DTSTART;TZID=America/New_York:20220415T120000
DTEND;TZID=America/New_York:20220415T130000
DTSTAMP:20260422T231611
CREATED:20220401T034148Z
LAST-MODIFIED:20220401T034148Z
UID:31325-1650024000-1650027600@www.carlehealthfitness.com
SUMMARY:Outdoor Walking Group
DESCRIPTION:Every Friday in April from 12 pm – 1 pm at McGraw Park \n(just northwest of the Carle Health & Fitness Center parking lot) \nIncrease your wellness\, soak in some Vitamin D and connect with others by joining us for an outdoor walk every Friday in April. This free event is open to both members and non-members\, so bring a friend!  \nEach week you participate\, check in with the Walking Group Coach\, and you will be entered into a raffle for the chance to win a free One-Month Carle Health & Fitness Center membership.  \nIn case of inclement weather\, the event will take place on the indoor track at Carle Health & Fitness Center.
URL:https://www.carlehealthfitness.com/marketing-event/outdoor-walking-group-2022-04-15/
LOCATION:McGraw Park\, 3202 Cornelius Dr.\, Bloomington\, IL\, 61704\, United States
ATTACH;FMTTYPE=image/jpeg:https://www.carlehealthfitness.com/wp-content/uploads/2022/03/WALKING.jpg
END:VEVENT
BEGIN:VEVENT
DTSTART;TZID=America/New_York:20220422T120000
DTEND;TZID=America/New_York:20220422T130000
DTSTAMP:20260422T231611
CREATED:20220401T034148Z
LAST-MODIFIED:20220401T034148Z
UID:31326-1650628800-1650632400@www.carlehealthfitness.com
SUMMARY:Outdoor Walking Group
DESCRIPTION:Every Friday in April from 12 pm – 1 pm at McGraw Park \n(just northwest of the Carle Health & Fitness Center parking lot) \nIncrease your wellness\, soak in some Vitamin D and connect with others by joining us for an outdoor walk every Friday in April. This free event is open to both members and non-members\, so bring a friend!  \nEach week you participate\, check in with the Walking Group Coach\, and you will be entered into a raffle for the chance to win a free One-Month Carle Health & Fitness Center membership.  \nIn case of inclement weather\, the event will take place on the indoor track at Carle Health & Fitness Center.
URL:https://www.carlehealthfitness.com/marketing-event/outdoor-walking-group-2022-04-22/
LOCATION:McGraw Park\, 3202 Cornelius Dr.\, Bloomington\, IL\, 61704\, United States
ATTACH;FMTTYPE=image/jpeg:https://www.carlehealthfitness.com/wp-content/uploads/2022/03/WALKING.jpg
END:VEVENT
BEGIN:VEVENT
DTSTART;TZID=America/New_York:20220429T120000
DTEND;TZID=America/New_York:20220429T130000
DTSTAMP:20260422T231611
CREATED:20220401T034148Z
LAST-MODIFIED:20220401T034148Z
UID:31327-1651233600-1651237200@www.carlehealthfitness.com
SUMMARY:Outdoor Walking Group
DESCRIPTION:Every Friday in April from 12 pm – 1 pm at McGraw Park \n(just northwest of the Carle Health & Fitness Center parking lot) \nIncrease your wellness\, soak in some Vitamin D and connect with others by joining us for an outdoor walk every Friday in April. This free event is open to both members and non-members\, so bring a friend!  \nEach week you participate\, check in with the Walking Group Coach\, and you will be entered into a raffle for the chance to win a free One-Month Carle Health & Fitness Center membership.  \nIn case of inclement weather\, the event will take place on the indoor track at Carle Health & Fitness Center.
URL:https://www.carlehealthfitness.com/marketing-event/outdoor-walking-group-2022-04-29/
LOCATION:McGraw Park\, 3202 Cornelius Dr.\, Bloomington\, IL\, 61704\, United States
ATTACH;FMTTYPE=image/jpeg:https://www.carlehealthfitness.com/wp-content/uploads/2022/03/WALKING.jpg
END:VEVENT
END:VCALENDAR