BEGIN:VCALENDAR
VERSION:2.0
PRODID:-//Carle - ECPv6.15.20//NONSGML v1.0//EN
CALSCALE:GREGORIAN
METHOD:PUBLISH
X-ORIGINAL-URL:https://www.carlehealthfitness.com
X-WR-CALDESC:Events for Carle
REFRESH-INTERVAL;VALUE=DURATION:PT1H
X-Robots-Tag:noindex
X-PUBLISHED-TTL:PT1H
BEGIN:VTIMEZONE
TZID:America/Chicago
BEGIN:DAYLIGHT
TZOFFSETFROM:-0600
TZOFFSETTO:-0500
TZNAME:CDT
DTSTART:20250309T080000
END:DAYLIGHT
BEGIN:STANDARD
TZOFFSETFROM:-0500
TZOFFSETTO:-0600
TZNAME:CST
DTSTART:20251102T070000
END:STANDARD
BEGIN:DAYLIGHT
TZOFFSETFROM:-0600
TZOFFSETTO:-0500
TZNAME:CDT
DTSTART:20260308T080000
END:DAYLIGHT
BEGIN:STANDARD
TZOFFSETFROM:-0500
TZOFFSETTO:-0600
TZNAME:CST
DTSTART:20261101T070000
END:STANDARD
BEGIN:DAYLIGHT
TZOFFSETFROM:-0600
TZOFFSETTO:-0500
TZNAME:CDT
DTSTART:20270314T080000
END:DAYLIGHT
BEGIN:STANDARD
TZOFFSETFROM:-0500
TZOFFSETTO:-0600
TZNAME:CST
DTSTART:20271107T070000
END:STANDARD
END:VTIMEZONE
BEGIN:VEVENT
DTSTART;TZID=America/Chicago:20260516T090000
DTEND;TZID=America/Chicago:20260516T090000
DTSTAMP:20260423T211408
CREATED:20260423T170301Z
LAST-MODIFIED:20260423T170301Z
UID:39679-1778922000-1778922000@www.carlehealthfitness.com
SUMMARY:TPC's Summer Programming Kickoff
DESCRIPTION:Free Event\, Saturday\, May 16th \nJoin us on Saturday\, May 16th for a free kickoff event of programming for Adult Strength\, Adult MetCon and Fit For All. Join TPC this summer for great workouts\, motivation and friendships! \nEvent Schedule: \n\n8:30 AM: New to group training? Arrive early to meet Coach Mitch Smith for a quick movement prep and overview of the programming.\n9:00 AM: Join a Class (Your Choice). Jump right into our Adult Combo class or Fit For All and experience our coaching difference.\n\nThis is a great opportunity to try a class\, meet the coaches\, and decide if the program is right for you. No commitment required. \nClick the website link below to register and secure your spot or reach out to Sports Performance Coach Mitch Smith at msmith@iwp-llc.com with any questions.
URL:https://www.carlehealthfitness.com/marketing-event/summer-kickoff/
LOCATION:Training and Performance Center\, 1111 Trinity Ln.\, Bloomington\, IL\, 61704\, United States
CATEGORIES:Adult Fitness
ATTACH;FMTTYPE=image/jpeg:https://www.carlehealthfitness.com/wp-content/uploads/2026/04/TPCs-Summer-Programming-Kickoff-Adult-Programs-CHFC-event-image-1000x430-px.jpg
END:VEVENT
END:VCALENDAR